BEGIN:VCALENDAR
VERSION:2.0
CALSCALE:GREGORIAN
PRODID:-//MyApp//Calendar 1.0//EN
BEGIN:VEVENT
METHOD:PUBLISH
UID:32316@regionalniportaly.cz
DTSTAMP:20260422T055125Z
DTSTART;VALUE=DATE:20230805
DTEND;VALUE=DATE:20230806
SUMMARY:Rockový Královák XI.
DESCRIPTION:Na letní scéně zámku v Králově Dvoře se v sobotu 5. srpna 2023 uskuteční další ročník rockového festivalu Rockovej Králová. Letošní\, už jedenáctý ročník\, přinese pořádný nářez rockové muziky. Stejně jako v uplynulých letech na něm vystoupí kapela Black Hill a Moped 56. Dále se můžete těšit na kapely E.O.S.\, Destroy!\, Madam Royal a Exorcizphobia.
LOCATION:Králův Dvůr
END:VEVENT
END:VCALENDAR