BEGIN:VCALENDAR
VERSION:2.0
CALSCALE:GREGORIAN
PRODID:-//MyApp//Calendar 1.0//EN
BEGIN:VEVENT
METHOD:PUBLISH
UID:32723@regionalniportaly.cz
DTSTAMP:20260422T035334Z
DTSTART;VALUE=DATE:20230521
DTEND;VALUE=DATE:20230522
SUMMARY:Serge Robinson  (UK/CZ)
DESCRIPTION:Serge Robinson Jr je londýnský gospelový zpěvák\, původem z Jamajky. Respektive zpěvák\, skladatel\, producent\, herec\, učitel zpěvu\, stálý vedoucí gospelového sboru v jižním Londýně a příležitostný vedoucí kostelních sborů po farnostech celé Británie. Absolvent South London College v Norwoodu\, vyučující na Natural Voice Perfection Institutu. Zpívá od čtyř let\, v sezóně 1994/1995 byl jmenován nejlepším gospelovým zpěvákem Británie\, prošel muzikálovými divadly ve West Endu\, zpíval dvěma papežům\, zpíval i doprovodné vokály na turné Michaela Boltona. A protože se chce konečně podívat taky do Česka\, udělal nám na své poměry cenu a na programu bude autenticky podaný gospel\, blues\, soul a R’n’B. Doprovodí jej tři špičkoví čeští jazzoví muzikanti Jakub Zomer – klávesy + kapelník\, Jan Tengler – basa a Martin Kopřiva na bicí.
LOCATION:Černošice
END:VEVENT
END:VCALENDAR