BEGIN:VCALENDAR
VERSION:2.0
CALSCALE:GREGORIAN
PRODID:-//MyApp//Calendar 1.0//EN
BEGIN:VEVENT
METHOD:PUBLISH
UID:32725@regionalniportaly.cz
DTSTAMP:20260422T071221Z
DTSTART;VALUE=DATE:20230621
DTEND;VALUE=DATE:20230622
SUMMARY:The Zac Schulze Gang (GB)
DESCRIPTION:Kapela The Zac Schulze Gang vznikla v roce 2020 v Gillinghamu a hned zaútočili na hudební scénu se směsí blues\, rocku a coververzí od 50. let do současnosti. Jejich tvorba čerpá z vlivu umělců jako Stevie Ray Vaughan\, The Beatles\, The Who\, Dr. Feelgood\, Rory Gallagher\, Eagles\, 10cc a mnoho dalších. Můžete se těšit na tvrdé a úderné bluesrockové trio z hrabství Kent. Kapela hraje ve složení Zac Schulze - Lead Guitar\, vocal\, Anthony Greenwell - Bass Guitar\, vocal\, Ben Schulze - Drums\, vocal.
LOCATION:Černošice
END:VEVENT
END:VCALENDAR