BEGIN:VCALENDAR
VERSION:2.0
CALSCALE:GREGORIAN
PRODID:-//MyApp//Calendar 1.0//EN
BEGIN:VEVENT
METHOD:PUBLISH
UID:32862@regionalniportaly.cz
DTSTAMP:20260422T053109Z
DTSTART;VALUE=DATE:20230604
DTEND;VALUE=DATE:20230605
SUMMARY:Michal Prokop & Framus Five
DESCRIPTION:V roce 1963 začal Michal Prokopveřejně vystupovat v rockové hudební skupině\, později pojmenované&nbsp\;Framus Five\, zpočátku jako kytarista\, od roku 1967 coby zpěvák. Skupina se žánrově postupně orientovala na&nbsp\;soul&nbsp\;a&nbsp\;rhythm and blues\, což se projevilo už na debutovém albu&nbsp\;Framus Five&nbsp\;z roku 1969. Později přibyly i vlivy progresivního rocku (album&nbsp\;Město ER&nbsp\;s texty&nbsp\;Josefa Kainara&nbsp\;z roku 1970\, vyšlo 1972). Pak přijal angažmá v divadle&nbsp\;Semafor\, zároveň vystupoval jako partner v programu Hany Zagorové. V roce 1975 vystupoval se skupinou&nbsp\;Mahagon&nbsp\;a od roku 1978 v obnovených Framus Five\, s nimiž působil až do roku 1990.&nbsp\;V 80. letech tato skupina vyprodukovala kritikou oceňovaná alba&nbsp\;Kolej Yesterday&nbsp\;(1984)\,&nbsp\;Nic ve zlým\, nic v dobrým&nbsp\;(1987) a&nbsp\;Snad nám naše děti…&nbsp\;(1989).Od roku 2000 Michal Prokop opět veřejně vystupuje s obnovenou skupinou Framus Five a s akustickým triem.
LOCATION:Černošice
END:VEVENT
END:VCALENDAR