BEGIN:VCALENDAR
VERSION:2.0
CALSCALE:GREGORIAN
PRODID:-//MyApp//Calendar 1.0//EN
BEGIN:VEVENT
METHOD:PUBLISH
UID:32864@regionalniportaly.cz
DTSTAMP:20260422T004545Z
DTSTART;VALUE=DATE:20230529
DTEND;VALUE=DATE:20230530
SUMMARY:Alice Armstrong & The Bladderstones (UK)
DESCRIPTION:Alice Amstrong se jako zpěvačka i textařka prosadila se skupinami Crossfire Blues Band a Stevie Wats Organ/Hammond Trio. Samozřejmě na současné hudební scéně všechno se vším nějak souvisí a takév projevu Alice Armstrong slyšíme různé vlivy. Jejími vzory jsou Ella Fitzgerald\, Etta James\, Aretha Franklin\, Amy Winehouse\, Peggy Lee a Dinah Washington. Na Britsh Blues Award 2021 byla Alice Armstrong nominována ve dvou kategoriích - Objev roku a Kapela roku se Stevie Watts Organ Triem.The BladderStones (vítězové prestižní soutěžní přehlídky Blues Aperitiv - česká doprovodná kapela\, působící na české hudební scéně od roku 2013)\, se vracejí s bluesovou zpěvačkou Alicí Armstrong a společně si připravili krásný program složený z bluesových a bluesrockových pecek. The BladderStones s vtipem a nadsázkou překračují žánrové hranice. Vytváří vlastní sebevědomou fúzi kytarových riffů\, dynamických zvratů i inovativních zvuků. Hlavní devízou kapely je především bravurní interakce mezi hráči\, improvizace\, autentičnost a upřímnost textařské výpovědi. Neortodoxní přístup k blues s ozvěnami grunge a bigbítu\, nadhled i nepopiratelná hráčská vyzrálost tvoří z The Bladder- Stones jeden z nejzajímavějších projektů na scéně strhávající publikum napříč generacemi i státy.&nbsp\;
LOCATION:Černošice
END:VEVENT
END:VCALENDAR