BEGIN:VCALENDAR
VERSION:2.0
CALSCALE:GREGORIAN
PRODID:-//MyApp//Calendar 1.0//EN
BEGIN:VEVENT
METHOD:PUBLISH
UID:32886@regionalniportaly.cz
DTSTAMP:20260422T072229Z
DTSTART;VALUE=DATE:20230601
DTEND;VALUE=DATE:20230602
SUMMARY:Beata Hlavenková a Kapela snů
DESCRIPTION:Pianistka\, skladatelka\, zpěvačka\, aranžérka a producentka\, je jednou z nejvýraznějších současných muzikantek s nezaměnitelným nadžánrovým autorským rukopisem. Její hlavní devízou je odvaha experimentovat\, hledat nekonvenční harmonie a aranžmá. Žánrová svoboda\, opírající se o hluboké povědomí o jazzu\, mo-derní klasické hudbě\, popu i písničkářství\, se ve všech jejích projektech prolíná s jasně rozpoznatelnou soustředěnou a citlivou interpretací. Ve středu toho všeho je “jiskrná muzika\, která jen tak nezhasne“\, jak popsal hudební publicista Tomáš S. Polívka.&nbsp\;
LOCATION:Černošice
END:VEVENT
END:VCALENDAR