BEGIN:VCALENDAR
VERSION:2.0
CALSCALE:GREGORIAN
PRODID:-//MyApp//Calendar 1.0//EN
BEGIN:VEVENT
METHOD:PUBLISH
UID:32887@regionalniportaly.cz
DTSTAMP:20260422T035343Z
DTSTART;VALUE=DATE:20230601
DTEND;VALUE=DATE:20230602
SUMMARY:Petr Beneš & Adam Tvrdý
DESCRIPTION:Petr Beneš je jazzový pianista\, saxofonista\, skladatel a aranžér. Má mnoholeté zkušenosti s&nbsp\;angažmá v projektech Petr Kořínek Quartet\, Trialog\, Jazz Efterrätt\, Libor Šmoldas Quartet\, Bigband sv. Blažeje\, Český národní symfonický orchestr a dalšími. Spolupracoval např. s Bobby Watson\, Randy Brecker\, Bobby Shew\, Vince Mendoza\, George Mráz\, Chris Brubeck\, Alex Garnett\, Michael Janish\, Robby Marshall a dalšími.Adam Tvrdý je kytarista a skladatel s expresivním multižánrovým projevem. Ve svých interpretacích a improvizacích sleduje vlastní tvůrčí myšlenky\, a zároveň respektuje tradice a slovník daného hudebního stylu. Adamovu vlastní tvorbu lze označit jako soudobý nebo moderní jazz nebo Fusion\, přičemž jsou v ní slyšet prvky stylů\, kterými je nejvíce ovlivněn (blues\, klasický rock\, moderní a klasický jazz\, latinská a klasická hudba).&nbsp\;
LOCATION:Černošice
END:VEVENT
END:VCALENDAR