BEGIN:VCALENDAR
VERSION:2.0
CALSCALE:GREGORIAN
PRODID:-//MyApp//Calendar 1.0//EN
BEGIN:VEVENT
METHOD:PUBLISH
UID:32888@regionalniportaly.cz
DTSTAMP:20260422T004506Z
DTSTART;VALUE=DATE:20230602
DTEND;VALUE=DATE:20230603
SUMMARY:V. Spilka Quartet Shahab Tolouie Trio  Varhan's Groovy Jamm
DESCRIPTION:Vilém Spilka QuartetSmíchejte jazz\, folk a další současné vlivy\, přidejte špetku experimentu\, dochuťte zdejší melodikou a dostanete kapelu s názvem Vilém Spilka Quartet.Shahab Tolouie TrioHudebníci z&nbsp\;Íránu (Shahab Tolouie)\, bývalé Jugoslávie (Gavrilo Aleksič) a České republiky (Petr Hádr) hovořící stejným jazykem. Jsme Shahab Tolouie Trio a hrajeme EthnoFlamenco\, kde se mísí tajemná mystika\, hluboká filozofie\, lehká hravost a ohnivá vášeň.Varhan’s Groovy JammVarhan’s Groovy Jamm je jazz-rock-funková formace\,kterou založil skladatel a dirigent Varhan Orchestrovič Bauer spolu s bubeníkem Radkem Němejcem.&nbsp\;&nbsp\;
LOCATION:Černošice
END:VEVENT
END:VCALENDAR