BEGIN:VCALENDAR
VERSION:2.0
CALSCALE:GREGORIAN
PRODID:-//MyApp//Calendar 1.0//EN
BEGIN:VEVENT
METHOD:PUBLISH
UID:33441@regionalniportaly.cz
DTSTAMP:20260422T004422Z
DTSTART;VALUE=DATE:20230623
DTEND;VALUE=DATE:20230624
SUMMARY:Steve „Big Man“ Clayton Band (UK/CZ/SK)
DESCRIPTION:Steve „Big Man“ Clayton se poprvé setkal s Tomášem Bobrovniczkým na jazzovém festivalu v Meilenu ve Švýcarsku. Tomáš byl doporučen jako skvělý bluesový bubeník. Steve mu poté poslal písničky\, aby se je naučil. Od první skladby bylo zřejmé\, že to nebude naposledy\, kdy tito dva společně vystupují. Tomáš má skvělý cit pro hudbu\, hraje jen to\, co je nutné. Někdy si hraje s metličkami\, někdy s paličkami a někdy i s rukama! Steve hraje na piano levou rukou silnou basovou linku\, zatímco pravá ruka groovuje s jeho obrovským hlasem. Později se ke Stevovi a Tomášovi připojili český baskytarista Walter Bartoš a kytarista Walter Bartoš jr.\, kteří spolu působí ve skupině WBand. Kapela má repertoár\, který zahrnuje Blues\, Boogie Woogie\, Jazz\, Rock &amp\; Roll a Gospel\,… Prostě něco pro každého. Kapela zaujme své publikum hned od první chvíle svojí energií\, emocemi a fantastického muzikantství. Steve se narodil v Birminghamu ve Velké Británii\, ale více než 22 let žije v Německu. Získal několik prestižních ocenění a 3-krát vyhrál první místo v British Blues Awards. Pravidelně koncertuje na velkých festivalech a v klubech nejen v&nbsp\;Evropě\, ale i v U.S.A. Steve je fantastický skladatel\, zpěvák\, hráč na piano a umělec. Vice informací najdete na &nbsp\;www.steve-bigman-clayton.com. Srdečně Vás zveme v&nbsp\;pátek 23.6. od 19.00 na zahrádku Club Kina. V&nbsp\;případě špatného počasí se koncert odehraje uvnitř clubu.
LOCATION:Černošice
END:VEVENT
END:VCALENDAR