BEGIN:VCALENDAR
VERSION:2.0
CALSCALE:GREGORIAN
PRODID:-//MyApp//Calendar 1.0//EN
BEGIN:VEVENT
METHOD:PUBLISH
UID:33681@regionalniportaly.cz
DTSTAMP:20260422T072341Z
DTSTART;VALUE=DATE:20230713
DTEND;VALUE=DATE:20230714
SUMMARY:Dobré ráno blues band
DESCRIPTION:Česko-americké trio Dobré ráno blues band tvoří profesionální hudebníci\, kytarista Vít Kopecký\, bubeník Vladislav Sosna a hráč na foukací hramoniku Brynn Stephens. Na hudební scéně působí od roku 2012 a za dobu své existence mají odehráno přes 1000 koncertů napříč Evropou\; Německo\, Rakousko\, Norsko\, Slovensko. V roce 2018 jako jediní z Česka reprezentovali svou zemi na mezinárodním festivalu European Blues Challenge v Norsku.Ve spolupráci s vydavatelstvím Galen nahráli tři alba\, výborně hodnocena odbornou kritikou i širokou veřejností\, z nichž poslední‘’Blues Before Breakfast’’ se zařadilo mezi nejprodávanější bluesová alba v&nbsp\;Česku.
LOCATION:Černošice
END:VEVENT
END:VCALENDAR