BEGIN:VCALENDAR
VERSION:2.0
CALSCALE:GREGORIAN
PRODID:-//MyApp//Calendar 1.0//EN
BEGIN:VEVENT
METHOD:PUBLISH
UID:34561@regionalniportaly.cz
DTSTAMP:20260422T070941Z
DTSTART;VALUE=DATE:20230908
DTEND;VALUE=DATE:20230909
SUMMARY:Buki fest
DESCRIPTION:Vystoupí Taxmeni s Vráťou Vyskočilem a Pavel Sedláček s Cadillakem. Večerem provede moderátor Country Rádia Milan Schmidt.
LOCATION:Černošice
END:VEVENT
END:VCALENDAR