BEGIN:VCALENDAR
VERSION:2.0
CALSCALE:GREGORIAN
PRODID:-//MyApp//Calendar 1.0//EN
BEGIN:VEVENT
METHOD:PUBLISH
UID:34596@regionalniportaly.cz
DTSTAMP:20260422T040237Z
DTSTART;VALUE=DATE:20230917
DTEND;VALUE=DATE:20230918
SUMMARY:Five Points Gang (GB/BR/G) Bluesrocková pecka z Londýna!
DESCRIPTION:Five Points Gang je londýnské velmi originální bluesové trio hrající ve&nbsp\;složení Joe Pearson (Anglie) - kytara\, zpěv\, Dinho Barral (Brazílie) - baskytara\, zpěv\, Thanos Papadopoulos (Řecko) - bicí. Na&nbsp\;koncertech střídá svůj materiál s&nbsp\;klasickými bluesovými standardy. Kapelu ovlivňují rozmanité hudební vlivy\, což ve&nbsp\;výsledku vdechuje život jejich dost specifickému pojetí blues. Jejich debutové album získalo obrovský ohlas u&nbsp\;kritiky díky skvěle napsaným písním\, výjimečnému muzikantství a&nbsp\;novému\, svěžímu pohledu na&nbsp\;blues. The Gang jsou nejvíce známí svými dynamickými živými vystoupeními\, na&nbsp\;jejich konci jsou diváci zcela vyčerpaní a&nbsp\;jen křičí po&nbsp\;dalším kousku. Five Points Gang je skutečně mezinárodní kapela - slovy jednoho recenzenta: "Velšan\, Řek a&nbsp\;Brazilec vejdou do&nbsp\;baru a&nbsp\;rozbijí ten klub!" Město Černošice Vás srdečně zve v&nbsp\;neděli 17.9 od&nbsp\;20.00 do&nbsp\;Club Kina na&nbsp\;bluesrockovou pecku z&nbsp\;Londýna.
LOCATION:Černošice
END:VEVENT
END:VCALENDAR