BEGIN:VCALENDAR
VERSION:2.0
CALSCALE:GREGORIAN
PRODID:-//MyApp//Calendar 1.0//EN
BEGIN:VEVENT
METHOD:PUBLISH
UID:35385@regionalniportaly.cz
DTSTAMP:20260422T055213Z
DTSTART;VALUE=DATE:20231026
DTEND;VALUE=DATE:20231027
SUMMARY:Rockový Ék (HU) vystoupí v Club Kinu
DESCRIPTION:Ék je čtyřčlenná rocková skupina z&nbsp\;Budapešti. Za dobu existence se&nbsp\;zviditelnila na nejvýznamnějších maďarských pódiích. V&nbsp\;dnešní době je nezanedbatelnou součástí nejen budapešťské klubové scény. Krátce po vzniku si skupiny všimnul Cseh Tomás a natočil s&nbsp\;ní v&nbsp\;roce 2015 její první album „February“. V&nbsp\;následujících třech letech odehráli Ék množství koncertů po celém Maďarsku a také dostali šanci představit se na krátkém turné v&nbsp\;Transylvánii. Rok 2018 byl dalším milníkem. Vydali druhé album „Whatever it takes“ a k&nbsp\;titulní skladbě natočili videoklip. Ve stejném roce zvítězili v&nbsp\;místní talentové soutěži. Jako cenu získali možnost natočení EP „Orchard“. Na konci roku 2018 natočili další video k&nbsp\;písničce „Mountains 2“. V&nbsp\;roce 2019 oslavili speciální show páté narozeniny v&nbsp\;budapešťském klubu Akvarium a vypravili se na velké evropské turné\, v&nbsp\;jehož rámci zavítali poprvé i na několik koncertů i do ČR. Ani za současné složité situace nezaháleli a koncem roku 2022 obdržel Oliver ocenění Maďarské akademie populární hudby. Kapela ÉK s&nbsp\;osobitým zvukem hraje ve složení Oliver Lee – kytara\, zpěv\, Ádám Balasi – bicí\, zpěv\, Bence Attila Oláh – klávesy\, zpěv a Csaba Kecskeméti – basová kytara. Město Černošice Vás srdečně zve ve čtvrtek 26.10. od 20.00 hod
LOCATION:Černošice
END:VEVENT
END:VCALENDAR