BEGIN:VCALENDAR
VERSION:2.0
CALSCALE:GREGORIAN
PRODID:-//MyApp//Calendar 1.0//EN
BEGIN:VEVENT
METHOD:PUBLISH
UID:35937@regionalniportaly.cz
DTSTAMP:20260422T021545Z
DTSTART;VALUE=DATE:20231124
DTEND;VALUE=DATE:20231125
SUMMARY:Bio Blues fest
DESCRIPTION:V&nbsp\;pátek 24.11. od 19.00 se v prostorách Club Kina &nbsp\;v Černošicích uskuteční další ročník mezinárodního festivalu BioBlues fest. Festival zahájí akustická formace Tom Bowling &amp\; Marek Vaňkát duo\, která hraje převážně vlastní tvorbu ve stylu folk a blues. Druhou kapelou a hlavní hvězdou festivalu bude uznávaný jazz-bluesový kytarista a zpěvák Roman Pokorný\, který vystoupí se svým triem. Bluesový projekt jednoho z nejlepších českých kytaristů\, skladatele\, zpěváka a&nbsp\;producenta Romana Pokorného\, držitele mnoha ocenění (Zlatý Anděl\, Jazzový Kája) &nbsp\;a jednoho z&nbsp\;nejproduktivnějších hudebníků posledních třech dekád v&nbsp\;oblasti jazzu a&nbsp\;blues. Můžete se těšit na energetickou a strhující show. &nbsp\;Kromě bluesový standardů zahraje i vlastní tvorbu. Roman Pokorný trio doplní pianista a hráč na hammond organ\, Jakub Zomer a bubeník Tomáš Bobrovniczký. Závěr večera bude patřit mladé blues rockové kapele Early Fox\, která pochází z německého z Lipska.
LOCATION:Černošice
END:VEVENT
END:VCALENDAR