BEGIN:VCALENDAR
VERSION:2.0
CALSCALE:GREGORIAN
PRODID:-//MyApp//Calendar 1.0//EN
BEGIN:VEVENT
METHOD:PUBLISH
UID:37685@regionalniportaly.cz
DTSTAMP:20260422T085519Z
DTSTART;VALUE=DATE:20240129
DTEND;VALUE=DATE:20240130
SUMMARY:Gilad Atzmon Band (GB\, Iz)
DESCRIPTION:Gilad Atzmon (UK) je původem izraelský\, dnes již britský špičkový jazzový saxofonista s nezaměnitelným tónem\, ovlivněný mimo jiné Charlie Parkerem\, Johnem Coltranem a židovskou lidovou hudbou. Hrál a nahrával mimo jiné s: Pink Floyd\, Paulem McCartneyem\, Robbiem Williamsem\, Sinead O'Connor\, Robertem Wyattem a The Waterboys. Narodil se v roce 1963 v Izraeli\, vystudoval Rubinovu hudební akademii v Jeruzalémě\, sloužil v izraelské armádě\, léta žil v dobrovolném "exilu" v Londýně ve Velké Británii\, kde studoval na Essexské universitě a jako hráč na saxofon patří k velmi vyhledávaným jazzovým hudebníkům. The Guardian o něm napsal "Úžasné improvizační pole..jazzový gigant\, který neustále kreslí do své plné výšky.“ Gilada doplní špičková rytmika ve složení DANIEL BULATKIN – piano\, fenomenální TARAS VOLOS (UA) &nbsp\;– kontrabas a &nbsp\;DUŠAN ČERNÁK na bicí.
LOCATION:Černošice
END:VEVENT
END:VCALENDAR