BEGIN:VCALENDAR
VERSION:2.0
CALSCALE:GREGORIAN
PRODID:-//MyApp//Calendar 1.0//EN
BEGIN:VEVENT
METHOD:PUBLISH
UID:37691@regionalniportaly.cz
DTSTAMP:20260422T104120Z
DTSTART;VALUE=DATE:20240130
DTEND;VALUE=DATE:20240131
SUMMARY:Wille & The Bandits (UK)
DESCRIPTION:Čtveřice s pověstí jedné z nejdynamičtějších skupin současnosti a koncertního zázraku bývá často přirovnávána k Led Zeppelin nebo k Jawbone. Kapela začínala kdysi v anglickém Cornwallu\, dnes sídlí v Londýně\, vystoupila na Glastonbury\, hrála velká turné v USA i v Austrálii a mezi její fanoušky patří třeba Joe Bonomasa\, Ian Paice z Deep Purple nebo Francis Rossi ze Status Quo. Díky svému novátorskému přístupu k bluesrockové hudbě si Wille &amp\; The Bandits vytvářejí místo pro sebe na evropské hudební scéně a zároveň si rozvíjejí reputaci jako jedna z nejlepších živých kapel v Británii. Kapela byla opakovaně uvedena stanicí BBC Radio 1 v první desítce souborů\, které musíte vidět na festivalu v Glastonbury. Byli též pozváni k vystoupení v německé televizní show RockPalast a v&nbsp\;úterý 30. ledna vystoupí od 20.00 v&nbsp\;černošickém Club Kinu. Kapela hraje ve složení Wille Edwards – Guitar lead vox\, Harry Mackaill – bass backing vox\, Matthew Gallagher – Keys\, Guitar\, Percussion\, backing vox\, Matthew Partridge – Drums\, backing vox. Více informací najdete na www.willeandthebandits.com
LOCATION:Černošice
END:VEVENT
END:VCALENDAR