BEGIN:VCALENDAR
VERSION:2.0
CALSCALE:GREGORIAN
PRODID:-//MyApp//Calendar 1.0//EN
BEGIN:VEVENT
METHOD:PUBLISH
UID:37692@regionalniportaly.cz
DTSTAMP:20260422T055203Z
DTSTART;VALUE=DATE:20240126
DTEND;VALUE=DATE:20240127
SUMMARY:Zrní
DESCRIPTION:Jsou stopaři nových postupů. Pohybují se v meziprostoru alternativy a popkultury.Nezaměnitelná je poetika v jejich textech\, práce s elektronikou i skladatelsko-producentskýpřístup\, v němž fúzují žánry a panuje absolutní volnost. Jejich hudba je černá díra\, kterápohltí cokoliv: od glassovského minimalismu přes podivné disco\, folkové písničkářství\, popsychedelickou závrať. Není mnoho kapel\, které by tolik překvapovaly\, jako právě Zrní.Intimitu z desek dokáží na koncertech přetavit v obrovskou energii. Umí být divocí ijemní\, zasnění i přímočaří. To vše dělá ze Zrní jednu z nejzajímavějších a nejvyzrálejšíchkapel české hudební scény. Zrní spolu hrají v nezměněné sestavě od roku 2001. Za seboumají 7 řadových alb\, za která byli několikrát nominováni na kapelu roku v hudebních cenáchAnděl. V roce 2012 si tuto sošku odnesli v kategorii objev roku. Bližší informace najdete na https://zrni.cz/ a https://www.instagram.com/zrni_official
LOCATION:Černošice
END:VEVENT
END:VCALENDAR