BEGIN:VCALENDAR
VERSION:2.0
CALSCALE:GREGORIAN
PRODID:-//MyApp//Calendar 1.0//EN
BEGIN:VEVENT
METHOD:PUBLISH
UID:38446@regionalniportaly.cz
DTSTAMP:20260422T035354Z
DTSTART;VALUE=DATE:20240208
DTEND;VALUE=DATE:20240209
SUMMARY:Originální šansony a francouzské hity - Eva Cendors
DESCRIPTION:Eva Cendorspředstaví recitál vlastních šansonů i nádherné melodie současných francouzských písničkářů\, které ve Francii "letí"\, ale k českému publiku zalétnou jen ojediněle. Hudbu doprovodí i mluvené slovo s vyprávěním příběhů ze života české umělkyně v Paříži. Eva Cendors vyrůstala v Jablonci nad Nisou\, vystudovala v Praze francouzskou filologii na FF UK a divadelní antropologii na DAMU. V průběhu dvaceti let žila a působila jako herečka a písničkářka ve Švýcarsku a ve Francii. Ve filmech a seriálech si zahrála se slavnými francouzskými\, amercikými i českými herci . Ve francouzském rádiu propůjčila svůj hlas hrdinům rozhlasových her a zazpívala Kubišové Modlitbu pro Martu. Více informací najdete na www.evacendors.org
LOCATION:Černošice
END:VEVENT
END:VCALENDAR