BEGIN:VCALENDAR
VERSION:2.0
CALSCALE:GREGORIAN
PRODID:-//MyApp//Calendar 1.0//EN
BEGIN:VEVENT
METHOD:PUBLISH
UID:38616@regionalniportaly.cz
DTSTAMP:20260422T090957Z
DTSTART;VALUE=DATE:20240217
DTEND;VALUE=DATE:20240218
SUMMARY:Kurz ájurvédského vaření (období KAPHA)
DESCRIPTION:&nbsp\;„Odlehčení a příprava na jarní očistu“\, to je téma kurzu ájurvédského vaření pro období KAPHA (konec zimy\, jaro).&nbsp\;S&nbsp\;přicházejícím jarem se můžeme cítit víc unavení\, líní\, letargičtí\, můžeme vnímat těžkost po těle i na duši\, máme pár kilíček navíc nejenom po vánočním hodování\, máme tendenci víc spát.&nbsp\;Jaro (období KAPHA) nám přináší do života kvality jakými jsou:&nbsp\; &nbsp\; &nbsp\; &nbsp\; &nbsp\; &nbsp\; &nbsp\; &nbsp\; &nbsp\; &nbsp\; &nbsp\; &nbsp\; &nbsp\; &nbsp\; &nbsp\;&nbsp\;ＣＨＬＡＤ，&nbsp\; &nbsp\; &nbsp\;&nbsp\; ＶＬＨＫＯＳＴ，&nbsp\;T&nbsp\;Ě ŽＫＯＳＴ，ＰＯＭＡＬＯＳＴ，&nbsp\; &nbsp\; &nbsp\; &nbsp\; &nbsp\; &nbsp\;&nbsp\;ＮＥＰＯＨＹＢＬＩＶＯＳＴ．Jsou to &nbsp\;přirozené kvality tohoto období\, které můžeme vnímat kolem sebe v&nbsp\;přírodě\, ale i uvnitř nás\, jelikož jsme součástí přírody a co se děje kolem nás\, děje se i v&nbsp\;nás.&nbsp\;Aby nás jaro nezastihlo nepřipravené\, je potřeba včas upravit jídelníček a životní styl\, abychom se vyhli nerovnováze a nemocem\, které jsou při přechodu mezi obdobími tolik typické.&nbsp\;Je čas pro&nbsp\;odlehčení ve stravě\, prohřátí organizmu a nakopnutí zpomaleného metabolismu.Součástí tohoto 5-hodinového kurzu je nejenom praktické vaření.&nbsp\;Dozvíte se:* jak upravit jídelníček pro období Kapha* důležitost sezónnosti a lokálnosti surovin* jak funguje naše trávení\, o tom\, jak podpořit náš trávící oheň Agni* jaké koření je vhodné používat\, a jaké má léčebné účinky* jak vykouzlit výživné jídlo pro celou rodinu* o nevhodných kombinacích jídla\, 6 chutích*nejenom o tom CO jíst\, ale i JAK a KDY jíst.
LOCATION:Zdice
END:VEVENT
END:VCALENDAR