BEGIN:VCALENDAR
VERSION:2.0
CALSCALE:GREGORIAN
PRODID:-//MyApp//Calendar 1.0//EN
BEGIN:VEVENT
METHOD:PUBLISH
UID:39695@regionalniportaly.cz
DTSTAMP:20260422T085608Z
DTSTART;VALUE=DATE:20240316
DTEND;VALUE=DATE:20240317
SUMMARY:Bohemian Pink Floyd tribute
DESCRIPTION:Srdečně Vás zveme v&nbsp\;sobotu 16. března na od 20.00 do Club Kina na koncert Bohemian Pink Floyd tribute. Jde o uskupení\, které se\, jak název napovídá\, věnuje tvorbě skupiny Pink Floyd. Kapela vznikla\, jako spojení dvou revivalů „Echoes of Pink Floyd a Czech Floyd\, které v tu dobu působily každý samostatně již téměř jedno desetiletí. Snaha skupiny je prezentovat hudbu Pink Floyd v podobě\, jak byla produkována na velkých koncertech Rogera Waterse\, tak Davida Gilmoura. Tedy včetně vokalistek\, autentického soundu\, či scénické projekce. V repertoáru se objevují všechny zásadní skladby\, které celosvětově ovlivnily vývoj hudby a způsob jejího pódiového zpracování. Více informací najdete na www.bohemianfloyd.cz.
LOCATION:Černošice
END:VEVENT
END:VCALENDAR