BEGIN:VCALENDAR
VERSION:2.0
CALSCALE:GREGORIAN
PRODID:-//MyApp//Calendar 1.0//EN
BEGIN:VEVENT
METHOD:PUBLISH
UID:39696@regionalniportaly.cz
DTSTAMP:20260422T103809Z
DTSTART;VALUE=DATE:20240313
DTEND;VALUE=DATE:20240314
SUMMARY:Walter Fischbacher Trio hraje Beatles (USA/D/CZ)
DESCRIPTION:Walter Fischbacher (USA) – piano\, Petr Dvorský (CZ) – kontrabas\, Ulf Stricker ‚D) – bicí. Jazzové pianové trio\, známé i u nás\, jako skvělá doprovodná kapela mnohých zpěváků a především zpěvaček\, se chce po letech konečně prezentovat ve své čistě instrumentální podobě. V roce 2022 natočili nové album\, které je celé složeno z jazzových předělávek písní Beatles a s tímto programem vyrazí v roce 2024 na velké středoevropské turné.
LOCATION:Černošice
END:VEVENT
END:VCALENDAR