BEGIN:VCALENDAR
VERSION:2.0
CALSCALE:GREGORIAN
PRODID:-//MyApp//Calendar 1.0//EN
BEGIN:VEVENT
METHOD:PUBLISH
UID:39698@regionalniportaly.cz
DTSTAMP:20260422T071109Z
DTSTART;VALUE=DATE:20240404
DTEND;VALUE=DATE:20240405
SUMMARY:Thomas Atlas Band (UK)
DESCRIPTION:Tom C. Walker alias dnes pódiovým jménem Thomas Atlas je britský funkový &amp\; soulový &amp\; bluesový zpěvák a kytarista\, původem z Birminghamu\, nyní již pobývající především v Londýně. Toma tehdy i dnes proslavila unikátní a zároveň brilantní hra na kytaru\, výjimečný zpěv a čiré\, ničím nezatížené\, letité muzikantství\, lze říci přímo od Pánaboha. V roce 2014 odcestoval na rok do Austinu v Texasu\, kde se odehrává řada důležitých hudebních přehlídek. Hrával s místními bluesmany a hudebně se definitivně otrkal. Od roku 2019 píše Tom C. Walker novou hudební kapitolu své hudební dráhy\, společně se svou novou kapelou „Thomas Atlas Band“\, zaměřenou kromě blues i na funk\, soul a špetku jazzu a analogový zvuk nahrávek. Hit Juice z posledního alba kapely mu i v době covidové koncertní uzávěry prostřednictvím Spotify přinesl všeobecnou známost a globální publikum. Více informací a ukázky jeho tvorby najdete na www.thomasatlas.com.
LOCATION:Černošice
END:VEVENT
END:VCALENDAR