BEGIN:VCALENDAR
VERSION:2.0
CALSCALE:GREGORIAN
PRODID:-//MyApp//Calendar 1.0//EN
BEGIN:VEVENT
METHOD:PUBLISH
UID:39822@regionalniportaly.cz
DTSTAMP:20260422T090916Z
DTSTART;VALUE=DATE:20240419
DTEND;VALUE=DATE:20240420
SUMMARY:Divadelní představení Dámský krejčí
DESCRIPTION:Divadelní představení Dámský krejčí
LOCATION:Doubek
END:VEVENT
END:VCALENDAR