BEGIN:VCALENDAR
VERSION:2.0
CALSCALE:GREGORIAN
PRODID:-//MyApp//Calendar 1.0//EN
BEGIN:VEVENT
METHOD:PUBLISH
UID:40693@regionalniportaly.cz
DTSTAMP:20260422T072135Z
DTSTART;VALUE=DATE:20240418
DTEND;VALUE=DATE:20240419
SUMMARY:G. COPPERFIELD ELECTRIC Band (D)\, blues\, rock a americana
DESCRIPTION:Tilo George Copperfield (T. G.) – kytara\, sólový zpěv\, Claus “Leslie” Baecher – klávesy a hammondy\, Don “Pretty” Karlos – baskytara\, Michael “Air” Hofmann – bicí\,Písničkář\, zpěvák a kytarista T. G. Copperfield vždy pracuje na kouzlu další písně. Brzy našel svůj vlastní hlas v blues\, rocku a americaně. Vypravěč s pozoruhodným smyslem pro melodii a se skutečným rokenrolovým srdcem. Jeho úctyhodný katalog deseti alb od roku 2017 do roku 2023 mluví sám za sebe a dělá z T. G. jedinečnou\, ale autentickou postavu na evropské bluesrockové scéně. Během permanentních evropských turné se svou elektrickou kapelou je píseň vždy v popředí jeho zájmu a zároveň ponechává dostatek prostoru pro skvělé muzikantství hudebníků\, kteří ho doprovázejí. Charismatický a živý interpret s více než dvacetiletou hudební zkušeností\, stovkami odehraných koncertů a hlubokým pochopením kořenů a základů rokenrolu a blues. Vynikající live show\, ve které kapela občas i zajamuje a především velmi dobře reaguje na publikum. Více informací a ukázky jeho tvorby najdete na www.tgcopperfield.com.
LOCATION:Černošice
END:VEVENT
END:VCALENDAR