BEGIN:VCALENDAR
VERSION:2.0
CALSCALE:GREGORIAN
PRODID:-//MyApp//Calendar 1.0//EN
BEGIN:VEVENT
METHOD:PUBLISH
UID:41283@regionalniportaly.cz
DTSTAMP:20260422T073615Z
DTSTART;VALUE=DATE:20240528
DTEND;VALUE=DATE:20240529
SUMMARY:Cinelli Brothers (UK)
DESCRIPTION:Kapela\, ve které zpívají všichni! Top blues band z Londýna!The Cinelli Brothers je projekt zrozený ze společné vášně pro americké elektrické blues z Chicaga a Texasu 60. a 70. let. Bratři Cinellové - Marco (kytarista a zpěvák) a Alessandro (bubeník) se rozhodli vytvořit eruptivní tým představující originální repertoár ve stylu legendárních Chess Records (bluesový label) a detroitského Motownu zaměřeného především na černošské interprety. Bluesový svazek bratrů brzy posílil Enzo Strano na baskytaru a Tom Julian-Jones na harmoniku a kytaru\, a tak vznikli The Cinelli Brothers.Jejich debutové album Babe Please Set Your Alarm vyšlov roce 2018. Album vystoupalo postupně na druhou pozici v žebříčku IBBA (Independent Blues Broadcasters Association). Kapela byla představena rozsáhlými profily v Blues in Britain\, Blues Matters\, Classic Rock a dalších časopisech. Deska obsahuje devět originálních skladeb a tři jemně pietní covery "Chain of Fools" (hit Arethy Franklin)\, "Back Door Man"\, který zůstává věrný stylu Willieho Dixona a Princeův "Kiss".V letech 2020 a 2021 byla kapela opakovaně nominována v rámci UK Blues Awards jako Blues Band of the Year. A v roce 2022 zvítězila a získala The UK 2022 British Blues Challenge!The Cinelli Brothers prostě představují novou generaci hudebníků\, vášnivě sdílejících lásku k blues\, soulu\, R&amp\;B a autentickému hraní\, díky němuž se blues stalo základním kamenem světové hudební historie.OBSAZENÍ:Marco Cinelli&nbsp\;– kytara\, piano\, klávesy\, sólový zpěvTom Julian-Jones&nbsp\;– kytara\, harmonika\, sólový zpěvStephen Giry –&nbsp\;baskytara\, kytara\, doprovodný zpěvAlessandro Cinelli&nbsp\;– bicí\, baskytara. doprovodný zpěv
LOCATION:Černošice
END:VEVENT
END:VCALENDAR