BEGIN:VCALENDAR
VERSION:2.0
CALSCALE:GREGORIAN
PRODID:-//MyApp//Calendar 1.0//EN
BEGIN:VEVENT
METHOD:PUBLISH
UID:41287@regionalniportaly.cz
DTSTAMP:20260422T103927Z
DTSTART;VALUE=DATE:20240602
DTEND;VALUE=DATE:20240603
SUMMARY:Peter Lipa & Band (Sk)
DESCRIPTION:Peter Lipa je jednou z nejvýznamnějších osobností slovenské jazzové scény\, který snad ani nepotřebuje představovat českému publiku. Vytvořil osobitý vokální projev s důrazem na text. Jeho hudba vychází ze spojení jazzu a blues\, inspirovaným zpěváky jako Jimmy Rushing\, Ray Charles\, Joe Cocker nebo Bobby McFerrin. Jako první zpěvák na Slovensku uplatňuje v jazzové hudbě slovenštinu.
LOCATION:Černošice
END:VEVENT
END:VCALENDAR