BEGIN:VCALENDAR
VERSION:2.0
CALSCALE:GREGORIAN
PRODID:-//MyApp//Calendar 1.0//EN
BEGIN:VEVENT
METHOD:PUBLISH
UID:43588@regionalniportaly.cz
DTSTAMP:20260423T052432Z
DTSTART;VALUE=DATE:20240620
DTEND;VALUE=DATE:20240621
SUMMARY:Emil Viklický Trio
DESCRIPTION:Trio Emila Viklického je složené z&nbsp\;těch nejlepších muzikantů jaké dnes můžete v&nbsp\;českých zemích najít. Trio tvoří Emil Viklicky – piano\, Petr Dvorsky – kontrabas a Jiří Stivín Jr. - bicí nástroje. Emil Viklický je přední český jazzový pianista a hudební skladatel. V první polovině 70. let hrál Viklický v Jazz Sanatoriu Luďka Hulana\, SHQ Karla Velebného a byl členem jazzrockového Energitu Národního divadla. Přijďte se o kvalitách tohoto souboru přesvědčit samy. Současný jazz je rozhodně velmi živá a originální muzika.
LOCATION:Černošice
END:VEVENT
END:VCALENDAR