BEGIN:VCALENDAR
VERSION:2.0
CALSCALE:GREGORIAN
PRODID:-//MyApp//Calendar 1.0//EN
BEGIN:VEVENT
METHOD:PUBLISH
UID:43589@regionalniportaly.cz
DTSTAMP:20260423T065543Z
DTSTART;VALUE=DATE:20240712
DTEND;VALUE=DATE:20240713
SUMMARY:Power pulse band  (SK)
DESCRIPTION:Srdečně Vás zveme v pátek&nbsp\; 12.7. na skvělé slovenské muzikanty z&nbsp\;kapely Power pulse band. Projekt P.B band je sdružení hudebníků milujících blues s přesahy do jiných žánrů\, jako rock\, funky\, boogie atd. Skupinu tvoří muzikanti\, kteří se pohybují v bluesovém prostředí již mnoho let. Harmonikář Erich 'Boboš' Procházka patří mezi hráče evropského formátu. Účinkuje v různých projektech\, a jako host spolupracuje například s Richardem Mūllerem a Petrem Lipou. Hlavní kytarista Štefan 'Pišta' Lengyel spolupracuje s Janou Kirschner\, Petrem Lipou. Kytarista a zpěvák Juraj Dura Turtev patří mezi známé bluesmany už 40 let a již v&nbsp\;Černošicích vystupoval se svou kapelou Bluesweiser. Skupinu doplňuje Tomáš Hudák (bicí) a Miro Suchoň (kytara\, zpěv. Charismatický projev a vlastní tvorba je pro P.P. band typická a osvěžující. Přijďte se přesvědčit osobně.
LOCATION:Černošice
END:VEVENT
END:VCALENDAR