BEGIN:VCALENDAR
VERSION:2.0
CALSCALE:GREGORIAN
PRODID:-//MyApp//Calendar 1.0//EN
BEGIN:VEVENT
METHOD:PUBLISH
UID:43591@regionalniportaly.cz
DTSTAMP:20260423T082919Z
DTSTART;VALUE=DATE:20240726
DTEND;VALUE=DATE:20240727
SUMMARY:G. Ashton & J. Vejsadová (AUS/CZ)
DESCRIPTION:Mezinárodně uznávaný australský bluesrockový kytarista&nbsp\; a zpěvák Gwyn Ashton\, který se prvně v&nbsp\;České Republice ukázal po boku BB Kinga. Ashton za svou kariéru spolupracoval s&nbsp\;umělci jako Status Quo\, The Black Crowes\, Canned Heat\, Muddy Waters's band\, Rory Gallagher's band nebo Robert Plant's band a&nbsp\;mnoho dalších. Jeho energická koncertní „show“ nás provede klasickým akustickým blues\, world music až po set elektrického hardrockového blues\, garážového rocku 60. let a&nbsp\;britské psychedelie. To vše hrané na nespočet hudebních nástrojů okořeněných mnoha kytarovými efekty\, včetně masivního zvuku kopáku\, virblu a&nbsp\;zpěvu do ručně vyrobeného lo-fi mikrofonu\, dělá z&nbsp\;Ashtona opravdovou klubovou lahůdku\, kterou by si žádný hudební labužník neměl nechat ujít. V&nbsp\;Černošicích ho doprovodí česká houslistka Jitka Vejsadová
LOCATION:Černošice
END:VEVENT
END:VCALENDAR