BEGIN:VCALENDAR
VERSION:2.0
CALSCALE:GREGORIAN
PRODID:-//MyApp//Calendar 1.0//EN
BEGIN:VEVENT
METHOD:PUBLISH
UID:46280@regionalniportaly.cz
DTSTAMP:20260423T192311Z
DTSTART;VALUE=DATE:20241123
DTEND;VALUE=DATE:20241124
SUMMARY:Bio Blues Festival
DESCRIPTION:Srdečně Vás zveme v&nbsp\;sobotu 23.11. od 19.00 do Club Kina na další ročník mezinárodního&nbsp\; bluesového festivalu Bio Blues. Můžete se těšit na místní skvělou kapelu After 40 z&nbsp\;poberouní. Stylově se orientující na bluesrock v repertoáru mají jak vlastní skladby\, tak převzaté klasiky s&nbsp\;výhradně českými texty. Dále vystoupí kapela Steven's .Šestičlenná parta ze západu Čech\, která ve své tvorbě mísí prvky blues\, rocku a nebojí se zabrousit ani do funkových groovů. Žánrově různorodé aranže stojí na pevných základech rytmiky\, kytarových riffů a celkovou barvu zvuku pak dotváří hlasy vokalistek. Steven's&nbsp\; mimo jiné vyhráli hlavní cenu poroty v soutěži Blues Aperitiv pořádané festivalem Blues Alive. Ze Slovenska nám přiveze hudební bonbónek formace Turtev Brothers. Kapela vznikla\, když multiinstrumentalista Erik Turtev (brumle\, píšťalky\, dudy) zjistil\, že jediný bluesman\, který hrál na brumli\, byl legendární harmonikář Sonny Terry. V Erikově triu pak hrají jeho bratr Roman Turtev na bicí a perkuse a strýc\, veterán slovenské bluesové scény Juraj Dura Turtev\, na kytaru. Repertoár tvoří především tradicionály a staré countrybluesové songy\, upravené pro tuto velmi originální sestavu. Že nevíte co je to brumle\, nevadí\, přijďte se osobně přesvědčit.
LOCATION:Černošice
END:VEVENT
END:VCALENDAR