BEGIN:VCALENDAR
VERSION:2.0
CALSCALE:GREGORIAN
PRODID:-//MyApp//Calendar 1.0//EN
BEGIN:VEVENT
METHOD:PUBLISH
UID:46819@regionalniportaly.cz
DTSTAMP:20260423T205834Z
DTSTART;VALUE=DATE:20241209
DTEND;VALUE=DATE:20241210
SUMMARY:Tomáš Kočko & Orchestr
DESCRIPTION:U zrodu T.K.&amp\; O. stály verše moravského básníka z Valašska - Ladislava Nezdařila. V roce 1999 vydali T.K.&amp\;O. debutové album Horní chlapci s jeho zhudebněnými texty\, pro které jako básnický jazyk zvolil Nezdařil dialekt moravských Valachů. Zbojníci\, hory\, vzdor\, úcta k tradicím\, láska i smrt\, jichž je Nezdařilova poezie plná\, se stali příštími tematickými okruhy dalších desek T.K.&amp\; O. Alba Tomáše Kočka &amp\; ORCHESTRu získaly pět nominací na cenu Anděl\, dvě ceny Anděl v kategorii deska roku World Music\, v prestižní TOP 20 World Music Charts Europe bodovala čtyři alba (Poplór\, Cestou na jih\,&nbsp\;Velesu a aktuální ONA) z nichž Velesu se ve WMCHE drželo čtyři měsíce a v celoročním bodování\, v konkurenci alb z celého světa\, skončilo na 25. místě. Kapela svou hudbu pevně ukotvenou v moravské tradici koření folkovým vnorem\, rockovým nápřahem i metalovými riffy. Kapela hraje ve složení Tomáš Kočko - kytara\, mandolina\, koncovka\, zpěv\, Helenka Vyvozilová - zobcové flétny\, dvojačka\, housle\, cimbál\, vokály\, Libuška Jelénková - viola\, housle\, vokály\, zpěv\, Pavel Bongo Plch - perkuse\, cimbál\, vokály a Roman Plaširyba - kontrabas\, vokály.
LOCATION:Černošice
END:VEVENT
END:VCALENDAR