BEGIN:VCALENDAR
VERSION:2.0
CALSCALE:GREGORIAN
PRODID:-//MyApp//Calendar 1.0//EN
BEGIN:VEVENT
METHOD:PUBLISH
UID:48796@regionalniportaly.cz
DTSTAMP:20260422T051248Z
DTSTART;VALUE=DATE:20250327
DTEND;VALUE=DATE:20250328
SUMMARY:Škola základ života
DESCRIPTION:„Co je štěstí? Muška jenom zlatá!“ „Teď vám názorně předvedu\, jak se básník stává trpaslíkem.“ „Snědl jsem párek nevalné chuti a nepřišlo mi volno.“ „Ich habe gesagt!“ Tyto vpravdě kultovní hlášky pocházejí – jak všichni ctitelé české filmové klasiky dobře ví – z legendárního snímku Martina Friče „Škola základ života“. Již méně je známý fakt\, že filmový scénář vznikl na základě divadelní komedie\, kterou na výzvu E. F. Buriana napsal středoškolský učitel Jaroslav Žák. A ten vycházel z vlastní humoristické prózy Študáci a kantoři\, jež se těšila u dobových čtenářů mimořádnému ohlasu. A tak lze dnes říct\, že Žákovy neopakovatelné postavičky „študáků“ a „kantorů“ – stejně jako autorovo laskavě ironické vidění školy coby sportovního zápasu – jsou právem nesmrtelné. Ba dokonce lze tvrdit\, že dokud bude existovat škola\, budou platit i brilantní a hluboce vtipné Žákovy postřehy o ní. Žákova divadelní verze se stala rovněž základem adaptace Hany Burešové\; jsou do ní navíc dějově zakomponovány populární písničky třicátých let. S humorem i nadsázkou jsou tu nahlíženy typické školní situace\, zobrazující „věčný boj“ študáků a kantorů\, mezi nimiž poznáváme povědomé typy a charaktery prostředí nejen školního\, ale vůbec českého.hrají a zpívají:&nbsp\;Vladimír Vopátek\, Miroslav Steiger\, Jan Koudelka\, Lukáš Vaněk\, Marek Jína/Martin Jína\, Lukáš Podškubka\, Lenka Kvapilíková\, Lucie Olívie Dvořáková\, Hana Ekinovičová\, Radek Hrdlička\, Josef Podškubka\, Václav Steiger\, Jana Buzková\, Adéla Chadziantonidis\, Jan Kutil\, Standa&nbsp\;Čermák\, Luboš Laňkaautoři:&nbsp\;Jaroslav Žák\, Hana Burešováhudba:&nbsp\;Karel Cónrekvizity:&nbsp\;Ivana Steigerová\, Luboš Laňkainspice:&nbsp\;Alena Maláchoreografie:&nbsp\;Ivana Steigerová\, Radek Hrdlička\, Lenka Kvapilíková\,&nbsp\;†&nbsp\;Radek Bílekhudební režie:&nbsp\;Michal Hodanzvuk:&nbsp\;Miroslav Soldánsvětla:&nbsp\;Radim Glotkoasistent režie:&nbsp\;Miroslav Steigerrežie:&nbsp\;Ivana Steigerovážánr:&nbsp\;hudební&nbsp\;komedievhodné od:&nbsp\;10 letdélka:&nbsp\;120 minut (+ přestávka)Premiéra 6. dubna 2022 v Divadle Na Maninách
LOCATION:Jesenice
END:VEVENT
END:VCALENDAR