BEGIN:VCALENDAR
VERSION:2.0
CALSCALE:GREGORIAN
PRODID:-//MyApp//Calendar 1.0//EN
BEGIN:VEVENT
METHOD:PUBLISH
UID:49493@regionalniportaly.cz
DTSTAMP:20260423T223159Z
DTSTART;VALUE=DATE:20250112
DTEND;VALUE=DATE:20250113
SUMMARY:Tříkrálový koncert
DESCRIPTION:V neděli 12.1. 2025 v 18h v kostele Nanebevzetí Panny Marie v Černošicích&nbsp\; zazní koncert pro kytaru Zimní haiku Lukáše Sommera v podání autora a Magnificat J. S. Bacha. Zpívat budou Pražští Pěvci\, hrát Černošická komorní filharmonie\, dirigent Stanislav Mistr.Vstupné 200/100Kč\, koncert podporují občané Černošic\, farnost Třebotov a Středočeský kraj. A pokud v příštím roce konečně přestane grantový výbor posuzovat mé žádosti podle svého pochybného a slabomyslného politického aktivismu\, možná i po dvou letech opět Město Černošice.Václav Polívka
LOCATION:Černošice
END:VEVENT
END:VCALENDAR