BEGIN:VCALENDAR
VERSION:2.0
CALSCALE:GREGORIAN
PRODID:-//MyApp//Calendar 1.0//EN
BEGIN:VEVENT
METHOD:PUBLISH
UID:51355@regionalniportaly.cz
DTSTAMP:20260422T171435Z
DTSTART;VALUE=DATE:20250329
DTEND;VALUE=DATE:20250330
SUMMARY:Koncert Leamon a Adovany
DESCRIPTION:LEAMON - silné melodie\, proměnlivé rytmy a střídající se nálady vystihují tvorbu kapely Leamon\, pětičlenné veselé partičky. Ve složení zpěv\, kytara\, piano\, baskytara a bicí tak tvoří originální muziku s hutnou dávkou emocí\, okořeněnou českými a anglickými texty. V průběhu let se obsazení kapely proměnilo a její aktuální vícegenerační sestava dodává Leamonu čerstvý a moderní nádech s mazáckým nadhledem. Leamon má šťávu! Leamon vám představí své loňské album Dům z karet.ADOVANY vznikli v roce 2019 v aktuálním složení Miroslav Krutina (autor\, kytara\, zpěv)\, Natálie Skotnická (zpěv)\, Květa Klajblová (zpěv\, saxofon)\, Solvína (baskytara). Bubeníky si půjčujeme od jiných kapel. Ke groovy rytmice volně přimíchává pop i indie rock a trojice vokalistů se nebojí ani složitějších kompozic a lichých rytmů. V prosinci 2023 ADOVANY vydali své první album - TALK TO ME!
LOCATION:Černošice
END:VEVENT
END:VCALENDAR