BEGIN:VCALENDAR
VERSION:2.0
CALSCALE:GREGORIAN
PRODID:-//MyApp//Calendar 1.0//EN
BEGIN:VEVENT
METHOD:PUBLISH
UID:51706@regionalniportaly.cz
DTSTAMP:20260424T053213Z
DTSTART;VALUE=DATE:20250319
DTEND;VALUE=DATE:20250320
SUMMARY:Ta druhá
DESCRIPTION:Ta druhá / Marie-Magdalena Kochová / Česko\, Slovensko / 2024 / 87 min.Johanka\, přehlížená dcera\, do které rodina tiše vkládá své naděje\, balancuje v křehkém &nbsp\;portrétu mezi touhou po osamostatnění a odpovědností vůči sestře s autismem. &nbsp\;Zatímco její vrstevnice řeší hlavně maturitu\, vztahy a své plány do budoucna\, osmnáctiletá &nbsp\;Johanka musí skloubit vlastní sny s péčí o mladší sestru Rozárku. Ta trpí formou autismu\, kvůli &nbsp\;které si vyžaduje nepřetržitý dohled svého nejbližšího okolí. &nbsp\;Film sleduje Johanku v průběhu několika let během formativního období posledních ročníků &nbsp\;školy na malém městě. Intimní debut se zaměřuje především na ni. Zachycuje její vnitřní &nbsp\;dilemata a každodenní boj o rovnováhu mezi vlastními ambicemi a odpovědností vůči rodině. &nbsp\;Citlivý pohled na vztahy otevírá diskusi o neviditelných břemenech „skleněných dětí“ a potřebě &nbsp\;podpory rodin s dětmi se zdravotním postižením. &nbsp\;Hostka: Sofie HoškováBeseda s hlavní hostkou\, čtrnáctiletou Sofií Hoškovou a její maminkou Michaelou nabídne prostor pro sdílení zkušeností a otevřenou diskuzi. Sofie dobře zná svět „skleněných dětí“ – dětí\, které často stojí v pozadí\, protože péče o jejich sourozence vyžaduje veškerou pozornost. Její starší bratr Matěj je autista a dnes už také uznávaný umělec působící pod jménem MAATTY\, který se právě dostal do prestižního výběru časopisu Forbes 30 pod 30.&nbsp\;Rodina Hoškových dlouhá léta žila v&nbsp\;Černošicích\, kdy také vznikl projekt Maappi.Jaké to je\, když vaše cesta není tou hlavní\, ale přesto má svůj jedinečný směr? Jak se Sofie vyrovnává s výzvami\, které přináší život ve stínu sourozence? Přijďte se zapojit do upřímné a inspirativní diskuse.&nbsp\;
LOCATION:Černošice
END:VEVENT
END:VCALENDAR