BEGIN:VCALENDAR
VERSION:2.0
CALSCALE:GREGORIAN
PRODID:-//MyApp//Calendar 1.0//EN
BEGIN:VEVENT
METHOD:PUBLISH
UID:51708@regionalniportaly.cz
DTSTAMP:20260422T182905Z
DTSTART;VALUE=DATE:20250318
DTEND;VALUE=DATE:20250319
SUMMARY:Tatami
DESCRIPTION:Tatami / Zar Amir Ebrahimi\, Guy Nattiv / Gruzie\, USA / 2023 / 103 min.Drama sleduje íránskou judistku Lejlu a její trenérku Marjam na mistrovství světa. Když do &nbsp\;sportovní soutěže zasáhne íránský režim\, Lejla musí udělat zásadní životní rozhodnutí.Lejla se s trenérkou Marjam účastní mistrovství světa v judu\, kde mají velkou šanci získat pro &nbsp\;Írán první zlatou medaili. Vše se ale začíná hroutit v okamžiku\, kdy do sportu začne zasahovat &nbsp\;íránský islámský režim. Nutí Lejlu odstoupit ze soutěže a ona tak stojí před nejdůležitějším &nbsp\;životním rozhodnutím. &nbsp\;Sportovní drama se odehrává v izolovaném světě\, v labyrintu polosvětlých chodeb\, kanceláří a &nbsp\;tělocvičen. Tyto klaustrofobní prostory jen dokreslují tíživý charakter situací\, v nichž se Lejla i &nbsp\;Marjam ocitají. Zblízka snímaná utkání sugestivně zachycují Lejlin houževnatý boj v hale i její &nbsp\;morální zápas proti represivnímu politickému režimu. &nbsp\;Hostka: PhDr. Zuzana Kříhová\, Ph.D.Beseda s íránistkou a vysokoškolskou pedagožkou Zuzanou Kříhovou nabídne širší pohled na situaci v Íránu a význam filmu v kontextu současných politických a společenských událostí.PhDr. Zuzana Kříhová\, Ph.D. je česká íránistka a vysokoškolská pedagožka působící na Ústavu Blízkého východu a Afriky Filozofické fakulty Univerzity Karlovy. Spolupracovala na překladu českých Dějin Íránu a antologie současné perské literatury Vítr nás odnese. Ve své akademické práci se zaměřuje na moderní perskou literaturu\, výuku perského jazyka a reflexi přistěhovalectví v dílech íránských autorů žijících v USA.&nbsp\;
LOCATION:Černošice
END:VEVENT
END:VCALENDAR