BEGIN:VCALENDAR
VERSION:2.0
CALSCALE:GREGORIAN
PRODID:-//MyApp//Calendar 1.0//EN
BEGIN:VEVENT
METHOD:PUBLISH
UID:51709@regionalniportaly.cz
DTSTAMP:20260422T184737Z
DTSTART;VALUE=DATE:20250317
DTEND;VALUE=DATE:20250318
SUMMARY:Křídla z prachu
DESCRIPTION:Křídla z prachu / Giorgio Ghiotto / Peru\, Itálie / 2024 / 60 min.&nbsp\;Domorodý peruánský novinář riskuje život\, aby upozorňoval na situaci své komunity. Ta v &nbsp\;důsledku agresivní těžby přichází o domov. &nbsp\;Vidal je čtyřicetiletý novinář z jihovýchodního Peru. Kdysi pracoval v dole a teď se snaží informovat &nbsp\;místní komunitu i ostatní svět o tom\, co agresivní těžba tamější krajině způsobuje. Riskuje při tom &nbsp\;svůj život a je jen otázkou času\, kdy politikům a nadnárodním korporacím dojde trpělivost. Chránit &nbsp\;vlastní rodinu\, nebo přírodu? To je dilema\, před nímž Vidal nutně stane. &nbsp\;Naléhavý dokument z prostředí původních peruánských obyvatel poukazuje na environmentální &nbsp\;a sociální nespravedlnost. Prostřednictvím osudu jednoho místa dává zakusit drastickou &nbsp\;proměnu kdysi malebné krajiny i sílu lidského odhodlání.&nbsp\;Hostka: RNDr. Michaela Pixová\, Ph.D.Kritická sociální geografka\, aktivistka\, publicistka\, vysokoškolská učitelka a překladatelka. Ve svém výzkumu\, aktivismu a publicistice se zaměřuje na socio-ekologickou transformaci\, kritickou urbánní teorii\, alternativy ke korporátnímu potravinovému režimu\, klimatickou politiku\, sociální hnutí\, občanskou společnost\, nerovnosti\, gender a intersekcionalitu.Beseda poskytne prostor pro hlubší zamyšlení nad tématy filmu – otázkami environmentální spravedlnosti\, dopadu těžby na domorodé komunity a role médií a aktivismu v boji proti ekologickým a sociálním nespravedlnostem.
LOCATION:Černošice
END:VEVENT
END:VCALENDAR