BEGIN:VCALENDAR
VERSION:2.0
CALSCALE:GREGORIAN
PRODID:-//MyApp//Calendar 1.0//EN
BEGIN:VEVENT
METHOD:PUBLISH
UID:52160@regionalniportaly.cz
DTSTAMP:20260422T171241Z
DTSTART;VALUE=DATE:20250414
DTEND;VALUE=DATE:20250415
SUMMARY:Pjér la Šé´z & Ondřej Smeykal: Duchovní aspekty sexuality
DESCRIPTION:Duchovní aspekty sexualityOd nepaměti bylo klíčovým duchovním aspektem vztahů mezi Duchem a Hmotou posvátné propojování mužské a ženské duchovní síly - hieros gamos\, které zajišťovalo spojení Nebe a Země. Co všechno se muselo změnit v lidském světě\, aby tato posvátná aktivita degradovala na sex\, porno\, tantrické výstřelky a podobné pokleslosti...?
LOCATION:Černošice
END:VEVENT
END:VCALENDAR