BEGIN:VCALENDAR
VERSION:2.0
CALSCALE:GREGORIAN
PRODID:-//MyApp//Calendar 1.0//EN
BEGIN:VEVENT
METHOD:PUBLISH
UID:52323@regionalniportaly.cz
DTSTAMP:20260422T171633Z
DTSTART;VALUE=DATE:20250413
DTEND;VALUE=DATE:20250414
SUMMARY:Velikonoční koncert
DESCRIPTION:Velikonoční koncert přeložen do Club Kina\, Fügnerova 263Na Květnou neděli 13.4. v 18h zazní v Club Kině Černošice Stabat Mater Arvo Pärta\, Křížová cesta Václava Polívky a Žalm č. 109 Dixit Dominus Jana Dismase Zelenky v podání Pražských pěvců a Černošické komorní filharmonie pod vedením Stanislava Mistra.Stabat Mater Arvo Pärta je téměř meditační uklidňující snová hudba\, která přiměje posluchače k nehybnosti a možnosti prožívat velikonoční událost vlastním způsobem. Křížová cesta Václava Polívky popisuje 14 středověkých obrazů Ježíše od odsouzení k smrti přes cestu na popraviště po jeho smrt a pohřbení. Ke každému obrazu je krátké hudební vyjádření v jednom ze 14 středověkých modů\, 7 tradičních a 7 odvozených. Dixit Dominus Jana Dismase Zelenky pro sbor a orchestr rozjasní závěr koncertu vírou v sílu pravdy\, která porazí všechny nepřátele.Koncert podpořili černošičtí občané a Středočeský kraj. V kostele Nanebevzetí Panny Marie byl \npanem farářem bez ohledu na dohodu a úpravu programu dle liturgického období zakázán. Vadí mu výhrady k činům černošických úředníků v pozvánce.
LOCATION:Černošice
END:VEVENT
END:VCALENDAR