BEGIN:VCALENDAR
VERSION:2.0
CALSCALE:GREGORIAN
PRODID:-//MyApp//Calendar 1.0//EN
BEGIN:VEVENT
METHOD:PUBLISH
UID:52658@regionalniportaly.cz
DTSTAMP:20260422T182952Z
DTSTART;VALUE=DATE:20250416
DTEND;VALUE=DATE:20250417
SUMMARY:Irena Budweiserová
DESCRIPTION:Proslavená svým hlasem\, který hravě zvládá blues plné emocí i gospelovou muziku\, prošla Irena Budweiserová skvělou sólovou kariérou i mnoha kapelami. Tou nejznámější a nejuznávanější se stal Spiritual Kvintet\, se kterým projela doslova celý svět a získala si sympatie\, uznání a lásku všech svých diváků. V&nbsp\;současné době vystupuje v&nbsp\;duu s Jakubem Rackem. Jakub je kytarista a zpěvák\, který prošel skupinami mnoha žánrů. Bluegrassovou asociací ČR byl několikrát oceněn kytaristou roku. Těšit se můžete na osobitý projev při interpretaci spirituálů\, gospelů\, bluesových skladeb\, folkových balad a vlastních písniček\, podpořený virtuosní hrou kytaristy Jakuba Racka\, se kterým si Irena také zazpívá. Průvodní slovo bude zčásti věnováno Velikonočním svátkům a některým zajímavostem okolo nich.
LOCATION:Černošice
END:VEVENT
END:VCALENDAR