BEGIN:VCALENDAR
VERSION:2.0
CALSCALE:GREGORIAN
PRODID:-//MyApp//Calendar 1.0//EN
BEGIN:VEVENT
METHOD:PUBLISH
UID:52659@regionalniportaly.cz
DTSTAMP:20260422T171642Z
DTSTART;VALUE=DATE:20250410
DTEND;VALUE=DATE:20250411
SUMMARY:True Strays (UK)
DESCRIPTION:James Cameron a Joseph (Joe) James společně hořeli pro muziku\, zejména pro americanu. Prošli spolu řadou kapel\, objeli stovky štací a desítky festivalů včetně těch největších\, až se nakonec takříkajíc udělali pro sebe.True Strays jsou soubor milující staré blues a rock and roll. Hudební vlivy působící na soubor pokrývají celou historii moderní hudby\, neboť kapela vzhlíží jak k delta blues 40. a 50. let\, tak britské bluesové invazi a psychedelii 60. a 70. let. Mezi kapelou zpracované podněty patří i jižanský rock\, soul\, punk a rock. Mezi soubory\, které muzikanty ovlivnily\, patří Muddy Waters a Howling Wolf\, Jimi Hendrix a Fleetwood Mac\, The Doors a Pink Floyd a novější rockové kapely jako jsou Nirvana a Pearl Jam. James Cameron (kytara a zpěv)\, Joe James (kontrabas\, baskytara\, kytara a zpěv)\, Gregg White (bicí).
LOCATION:Černošice
END:VEVENT
END:VCALENDAR