BEGIN:VCALENDAR
VERSION:2.0
CALSCALE:GREGORIAN
PRODID:-//MyApp//Calendar 1.0//EN
BEGIN:VEVENT
METHOD:PUBLISH
UID:52903@regionalniportaly.cz
DTSTAMP:20260424T102526Z
DTSTART;VALUE=DATE:20250516
DTEND;VALUE=DATE:20250517
SUMMARY:P.R.S.A. Divadelní sekce Praha
DESCRIPTION:P.R.S.A. (Eugeniusz Szybal)Obecně řečeno\, zažili jsme a zažíváme velká dobrodružství\, jak v osobním životě\, tak ve světě kolem nás. Inscenace P.R.S.A. je scénická výseč našeho počínání ve chvíli\, kdy příležitost k setkání nenaplňuje představy\, jaké v nás v obecné rovině vyvolává.Těšíme se na setkání s Vámi a na prožitek z něj. Bude nám k tomu hrát blues.
LOCATION:Černošice
END:VEVENT
END:VCALENDAR