BEGIN:VCALENDAR
VERSION:2.0
CALSCALE:GREGORIAN
PRODID:-//MyApp//Calendar 1.0//EN
BEGIN:VEVENT
METHOD:PUBLISH
UID:52980@regionalniportaly.cz
DTSTAMP:20260424T115404Z
DTSTART;VALUE=DATE:20250525
DTEND;VALUE=DATE:20250526
SUMMARY:Beata Hlavenková feat. Kryštof Tomeček a Tomáš Fuchs
DESCRIPTION:Nedělní večer Vám v rámci mezinárodního festivalu Jazz Černošice zpříjmení tyto kapely.19.00 - Přátelé ze VSI20.00 - K&amp\;H Band21.00 - Beata Hlavenková feat. Kryštof Tomeček a Tomáš Fuchs
LOCATION:Černošice
END:VEVENT
END:VCALENDAR