BEGIN:VCALENDAR
VERSION:2.0
CALSCALE:GREGORIAN
PRODID:-//MyApp//Calendar 1.0//EN
BEGIN:VEVENT
METHOD:PUBLISH
UID:52982@regionalniportaly.cz
DTSTAMP:20260424T125439Z
DTSTART;VALUE=DATE:20250528
DTEND;VALUE=DATE:20250529
SUMMARY:Jazz Černošice : pěvecké sbory
DESCRIPTION:Tradičně ve středu Vám své umění představý pěvecké sbory. Letos vystoupí cca v techto časech17.00 - Mifun18.00 - Tutte le Note19.00 - Columbella 
LOCATION:Černošice
END:VEVENT
END:VCALENDAR