BEGIN:VCALENDAR
VERSION:2.0
CALSCALE:GREGORIAN
PRODID:-//MyApp//Calendar 1.0//EN
BEGIN:VEVENT
METHOD:PUBLISH
UID:52985@regionalniportaly.cz
DTSTAMP:20260422T154903Z
DTSTART;VALUE=DATE:20250531
DTEND;VALUE=DATE:20250601
SUMMARY:Ježkovy stopy\, Elena Sonenshine\, Gerald Gradwohl Group A\, SK
DESCRIPTION:19.00 - Orchestr Ježkovy stopy20.30 - Elena Sonenshine21.00 - Gerald Gradwohl Group (Juraj Griglák) A\, SK
LOCATION:Černošice
END:VEVENT
END:VCALENDAR