BEGIN:VCALENDAR
VERSION:2.0
CALSCALE:GREGORIAN
PRODID:-//MyApp//Calendar 1.0//EN
BEGIN:VEVENT
METHOD:PUBLISH
UID:53963@regionalniportaly.cz
DTSTAMP:20260421T182415Z
DTSTART;VALUE=DATE:20250713
DTEND;VALUE=DATE:20250714
SUMMARY:Mamma Mia - hudební show
DESCRIPTION:Přijďte si užít jedinečný příjemný hudební večer na zámku v Průhonicích.Čeká na vás 90 minutový program\, kde uslyšíte všechny písně z filmu Mamma Mia v podání skvělých zpěváků a zpěvaček z české divadelní scény. A aby to nebylo jen o zpívání\, většina písní bude doprovázena tanečníky a jejich choreografiemi.Těšit se můžete i na propracované kostýmy\, vlastně vyrobené kulisy a skvělé osvětlení. Během celého vystoupení bude k dispozici stánek s merchem a občerstvením. Nebude chybět ani fotostěna\, u které si můžete udělat fotografii na památku.&nbsp\;&nbsp\;Písně budou zpívané v angličtině.&nbsp\;
LOCATION:Průhonice
END:VEVENT
END:VCALENDAR