BEGIN:VCALENDAR
VERSION:2.0
CALSCALE:GREGORIAN
PRODID:-//MyApp//Calendar 1.0//EN
BEGIN:VEVENT
METHOD:PUBLISH
UID:54508@regionalniportaly.cz
DTSTAMP:20260422T154725Z
DTSTART;VALUE=DATE:20250610
DTEND;VALUE=DATE:20250611
SUMMARY:Hardwicke Circus - to si nenechte ujít
DESCRIPTION:Představte si\, že Rolling Stones vytvoří album s The Doors jamujícími s Primal Scream. Tak to jsou Hardwicke Circus. Jonny Foster: sólový zpěv\, kytara / Lewis Bewley-Taylor: klávesy / Andy Sax: saxofon / Joe Hurst: baskytara\, zpěv / Tom Foster: bicí\, zpěv Hardwicke Circus si rychle buduje reputaci jako jedna z nejvíce vzrušujících kapel\, která se v posledních letech objevila ve Velké Británii. Díky tomu\, že si tato kapela získala velkou internetovou sledovanost a fanoušky po celém Spojeném království hraním bezpočtu živých vystoupení\, má vše\, co je potřeba k tomu\, aby došla až do konce\, tedy k&nbsp\;všeobecné popularitě a možná i k&nbsp\;evropské slávě. Jejich zvuk přináší srovnání s E Street Bandem a temnou vášní klasických Doors\, ale se spoustou britské autenticity. Hardwicke Circus – podpořil Boba Dylana a Neila Younga v Hyde Parku\, Madness\, Boomtown Rats Boba Geldofa\, Southside Johnny a The Asbury Jukes. Vystupovali na festivalech Isle of Wight\, Glastonbury\, v Readingu &amp\; Leedsu. Nedávno dokončili čtyřměsíční rezidenční pobyt ve slavné Hope &amp\; Anchor v Londýně a právě vydali své třetí EP. S každou novou show skupiny se na palubu dostává více a více fanoušků\, protože toto je skupina\, kde je co sledovat i poslouchat…. Lídrem bandu je zpěvák a hlavní skladatel Jonny Foster\, který přitahuje pozornost nejen hlasem\, ale i tím\, že vyzařuje charisma Micka Jaggera z éry LP ‚Brown Sugar‘. Ale na pódiu a na desce je také ozvěna energie takových novodobých hrdinů\, jako jsou Arcade Fire. „Naše koncerty jsou i velmi vizuální záležitost a myslím\, že lidé nás rádi vidí na pódiu\,“ přiznává Foster.&nbsp\;Kapelu nadále výrazně podporuje sám sir Paul McCartney!!!
LOCATION:Černošice
END:VEVENT
END:VCALENDAR