BEGIN:VCALENDAR
VERSION:2.0
CALSCALE:GREGORIAN
PRODID:-//MyApp//Calendar 1.0//EN
BEGIN:VEVENT
METHOD:PUBLISH
UID:56533@regionalniportaly.cz
DTSTAMP:20260422T141359Z
DTSTART;VALUE=DATE:20250810
DTEND;VALUE=DATE:20250811
SUMMARY:Koncert lektorů MHK 2025
DESCRIPTION:Mezinárodní hudební kurzy Černošice 2025 - lektorský koncert\, který představí vyučující.Budete mít vzácnou příležitost vyslechnout kontrabas v roli sólového nástroje ve virtuózním koncertu h moll&nbsp\;Giovanniho Bottesiniho v podání hráče orchestru Národního divadla v Praze Pavla Pospíšila.&nbsp\;Nepříliš obvyklý bezdotykový nástroj těremin\, vynález Lva Sergejeviče Těrmena\, využívající rozdílových tónů při dvou různých kmitočtech elektromagnetických vln\, jehož zvuk se podobá zpěvu\, nebo houslím\, rozezní&nbsp\;černošická&nbsp\;těreministka\, houslistka\, violistka\, kytaristka\, zpěvačka\, režisérka\, malířka a sochařka&nbsp\;Marie Ladrová ve skladbě&nbsp\;Le Cygne od Camille Saint - Saënse. Ukrajinská houslistka&nbsp\;Anastasia Ščíra zahraje Serenádu Estrellita mexického skladatele Manuela Ponceho\, houslista&nbsp\;Václav Polívka Sonátu Sergeje Prokofjeva. Stanislav Mistr zazpívá Suitu pro tenor a housle brazilského skladatele Heitora Villa - Lobose a všechny doprovodí klavírista Jan Polívka.Koncert je zahájením&nbsp\;Mezinárodních hudebních kurzů&nbsp\;10. - 14.8.&nbsp\;v ZŠ Jeden strom v Černošicích-Mokropsech\, Topolská 2036 s výukou hry na hudební nástroje\, zpěvu sólového i sborového\, dirigování\, komorní a orchestrální hry\, skladby\, se&nbsp\;semináři nástrojové a pěvecké techniky\, intonace\, interpretace a improvizace.Přihlásit se lze&nbsp\;na&nbsp\;v.polivka@seznam.cz&nbsp\;\, nebo na tel. 724 578 031 a 605 720 158\, na&nbsp\;www.prazstipevci.cz&nbsp\;a www.polivka.biz lze najít podrobnosti.Závěrečný koncert účastníků s velmi rozmanitým programem včetně skladeb účastníků bude v zahradě a jurtě v ZŠ Jeden strom\, Topolská 2036 s dobrovolným vstupným 14.8. v 19h.
LOCATION:Černošice
END:VEVENT
END:VCALENDAR