BEGIN:VCALENDAR
VERSION:2.0
CALSCALE:GREGORIAN
PRODID:-//MyApp//Calendar 1.0//EN
BEGIN:VEVENT
METHOD:PUBLISH
UID:57033@regionalniportaly.cz
DTSTAMP:20260424T112319Z
DTSTART;VALUE=DATE:20250921
DTEND;VALUE=DATE:20250922
SUMMARY:Danielle Wertz Quartet ( USA CZ )
DESCRIPTION:Mistrovská interpretka jazzových balad“ (NYC Jazz Record) a semifinalistka prestižní Thelonious Monk Jazz Vocal Competition (2015)\, Danielle Wertz je oceňovaná zpěvačka\, skladatelka a aranžérka\, která si získává čím dál větší uznání na mezinárodní scéně. Vychází z jazzu\, ale ve své tvorbě mísí i prvky folku a experimentální vokální hudby\, čímž vytváří osobitý a niterný hudební svět.
LOCATION:Černošice
END:VEVENT
END:VCALENDAR