BEGIN:VCALENDAR
VERSION:2.0
CALSCALE:GREGORIAN
PRODID:-//MyApp//Calendar 1.0//EN
BEGIN:VEVENT
METHOD:PUBLISH
UID:57598@regionalniportaly.cz
DTSTAMP:20260424T112222Z
DTSTART;VALUE=DATE:20250926
DTEND;VALUE=DATE:20250927
SUMMARY:Eric Clapton tribute
DESCRIPTION:Petr Samšuk\, Richard Klíma &amp\; Sam’s BandO výjimečný hudební večer zasvěcený tvorbě jednoho z nejlepších kytaristů - čerstvého osmdesátníka Erica Claptona - se postarají Petr Samšuk\, Richard Klíma a kapela Sam’s Band. &nbsp\;Zazní průřez celoživotní tvorbou tohoto mistra „barev“ a atmosféry včetně jeho největších hitů. Zahraje celkem osm muzikantů v několika různých sestavách.„Máme na tento koncertní program skvělé ohlasy! Posluchači často oceňují skvělou atmosféru a energii. Dokonce nám několik fanoušku řeklo (jistě s trochou nadsázky): Až bude Clapton i vy v Praze ve stejný den\, jdu na vás!“\, uvedl Petr Samšuk\, který je organizátorem projektu.Premiérově zazněl tento program ve vyprodané Malostranské besedě přesně v den Claptonových 72. narozenin - 30. 3. 2017. Repertoár je ale stále doplňován a obměňován.Petr Samšuk s kapelou Sam’s Band mají v repertoáru i úspěšný program z tvorby Boba Dylana\, nositele Nobelovy ceny za literaturu\, dále hrají koncerty písní Petra Kalandry ze všech jeho tvůrčích období. Petr Samšuk se sólově věnuje interpretaci písní Karla Kryla a také folkloru v kapele Folklor Trio.Zahrají a zazpívají:Petr Samšuk - zpěv\, akustická kytara\, elektrická kytara\, akordeonRichard Klíma - elektrická kytara\, akustická kytara\, zpěvJana Samšuková - zpěv\, bicí\, rytmikaKamil Kyzlík - piano\, Hammond varhanyVlasta Novák - basové kytary\, zpěvPavel Fiedler – tenorsaxofonJiří Bachtík - trubka\, křídlovkaMichal Myšán Skuhrovec - foukací harmonikyVíce informací na www.petrsamsuk.cz
LOCATION:Černošice
END:VEVENT
END:VCALENDAR